BEGIN:VCALENDAR
VERSION:2.0
PRODID:-//hacksw/handcal//NONSGML v1.0//EN
BEGIN:VEVENT
SUMMARY:Installation materiel compet interne
UID:a54aa1c5-a27c-45a9-b4c7-55fd98192d94
DTSTART:20260502T140000Z
DTEND:20260502T170000Z
LOCATION:Localisation   
CATEGORIES:Sportif
STATUS:
URL;VALUE=URI:https://www.gymlescigales.com/evenements/2026/05/02/installation-materiel-compet-interne-2440198
END:VEVENT
END:VCALENDAR
